BEGIN:VCALENDAR
VERSION:2.0
PRODID:-//Tukios.com/
BEGIN:VEVENT
UID:acb3665a-64b3-4b84-8ce4-4072916a0466@www.petersenfamilyfuneralhome.com
DTSTAMP:20260420T205035Z
DTSTART:20260424T153000Z
DTEND:20260424T163000Z
SUMMARY:Funeral Service
DESCRIPTION:
URL:https://www.petersenfamilyfuneralhome.com/obituaries/norma-smith
LOCATION: 14963 NW Boyer Rd  Burns KS 66840
GEO:38.0414561;-96.8962221
END:VEVENT
END:VCALENDAR